BEGIN:VCALENDAR
VERSION:2.0
PRODID:-//Ballarat Business Centre - ECPv4.6.12//NONSGML v1.0//EN
CALSCALE:GREGORIAN
METHOD:PUBLISH
X-WR-CALNAME:Ballarat Business Centre
X-ORIGINAL-URL:http://www.ballaratbusiness.com.au
X-WR-CALDESC:Events for Ballarat Business Centre
BEGIN:VEVENT
DTSTART;TZID=Australia/Melbourne:20190328T170000
DTEND;TZID=Australia/Melbourne:20190328T190000
DTSTAMP:20190228T090609
CREATED:20190102T033956Z
LAST-MODIFIED:20190102T034015Z
UID:2056-1553792400-1553799600@www.ballaratbusiness.com.au
SUMMARY:Marketing Your Business: How to get it right the first time
DESCRIPTION:An effective marketing strategy should boost your brand\, capture customers\, keep them coming back\, and ultimately save you time and money!\nMarketing is a vital tool to establish your brand and build a loyal customer base. \nWithout it\, your customers will struggle to find you or even know what your business does. Find out what it takes to make your business stand out from the crowd at this interactive two-hour workshop that will show you how to build your own marketing strategy from the ground up. \nLet your next steps be guided by an experienced marketing professional with real-life know-how and lots of insight to share that will show you how to get how to get it right\, first time and make the most out of your marketing spend. \nLearn how to set marketing goals that work\, get to know your customers better\, clarify your Unique Selling Proposition and choose the right marketing activities to match your business. \nThen learn how to measure the success of your activities so you can make sure you’re achieving your goals. Spanning market research\, online\, social media and customer service\, this workshop will arm you with practical tools and templates\, expert tips and advice\, and a head start on where to access the right support in future. \nFast track your next steps to marketing success at this Small Business Victoria workshop\, one of many that have helped businesses get started in Victoria for more than 10 years. \nLearn how to: \n• Set marketing goals that work \n• Choose the right activities for your business \n• Use market research and maximise customer service \n• Make the most of marketing processes and systems \n• Develop an effective marketing action plan \n• Attract and keep customers coming back \n• Get your business noticed \n• Maximise social media \nRegistration essential. Register here. \n
URL:http://www.ballaratbusiness.com.au/event/marketing-your-business-how-to-get-it-right-the-first-time/
LOCATION:15 Dawson St South\, Ballarat\, VIC\, 3350\, Australia
ORGANIZER;CN="Ballarat%20Business%20Centre%20in%20partnership%20with%20Small%20Business%20Victoria":MAILTO:reception@ballaratbusiness.com.au
END:VEVENT
END:VCALENDAR